BEGIN:VCALENDAR
VERSION:2.0
PRODID:-//AudioTheme 2.3.5
BEGIN:VEVENT
UID:urn:uuid:412c99b6-a72d-4809-8856-bfc4f1a75c88
URL:https://ryuto-kasahara.com/shows/%e5%a4%a7%e5%92%8c%e7%94%b0%e6%85%a7%e3%80%8e%e7%94%98%e3%81%84%e4%ba%88%e6%84%9f%e3%80%8frelease-tour-2023-in-%e6%9c%ad%e5%b9%8c%e6%9c%ad%e5%b9%8cjamusica/
DTSTART;TZID=GMT:20231210T100000
SUMMARY:大和田慧『甘い予感』Release Tour 2023 in 札幌@札幌JAMUSICA
DESCRIPTION:[ 出演 ]大和田慧（vo\, gt）宮川純（key）Special Guest: 笠原瑠斗（vo）
LOCATION:札幌JAMUSICA\, 札幌市中央区北4条西28丁目1-16\, SAPPORO\, 
END:VEVENT
END:VCALENDAR
