BEGIN:VCALENDAR
VERSION:2.0
PRODID:-//AudioTheme 2.3.5
BEGIN:VEVENT
UID:urn:uuid:c27d482f-d4fd-4f85-bb6c-69a60b880051
URL:https://ryuto-kasahara.com/shows/%e6%b8%8b%e8%b0%b7bx-cafe%ef%bc%88club-harlem%ef%bc%89/
DTSTART;VALUE=DATE:20260613
SUMMARY:渋谷BX cafe（CLUB HARLEM）
LOCATION:CLUB HARLEM\, 東京都渋谷区円山町2-4 Dr.ジーカンス 2F\, 3F\, TOKYO\, 
END:VEVENT
END:VCALENDAR
