BEGIN:VCALENDAR
VERSION:2.0
PRODID:-//AudioTheme 2.3.5
BEGIN:VEVENT
UID:urn:uuid:82712294-d1f7-4099-8059-48b0f928f771
URL:https://ryuto-kasahara.com/shows/nasu-block-party-%ef%bc%a0%e9%82%a3%e9%a0%88%e3%83%91%e3%83%a9%e3%83%80%e3%82%a4%e3%82%b9%e3%83%b4%e3%82%a3%e3%83%ac%e3%83%83%e3%82%b8/
DTSTART;TZID=GMT:20260704T083000
SUMMARY:NASU BLOCK PARTY  ＠那須パラダイスヴィレッジ
DESCRIPTION:DJ Mitsu the Beats・嶋野百恵・椎名純平・笠原瑠斗・John Nakayama Trio・Mahya  DJ： Killa Turner/Think Twice
LOCATION:那須パラダイスヴィレッジ\, 栃木県那須塩原市鹿野崎字戸屋109-7\, TOCHIGI\, 
END:VEVENT
END:VCALENDAR
