BEGIN:VCALENDAR
VERSION:2.0
PRODID:-//AudioTheme 2.3.5
BEGIN:VEVENT
UID:urn:uuid:ec116f77-5bb1-43ca-8ed8-6e6556304e31
URL:https://ryuto-kasahara.com/shows/native-hood-%e9%ab%98%e5%b4%8e-lime-cay-lime-cay-musicart/
DTSTART;TZID=GMT:20260516T080000
SUMMARY:Native Hood @高崎 LIME CAY / LIME CAY MUSIC&ART
DESCRIPTION:Special Guest: 柊人、笠原瑠斗   Hood Live: Native Wood(s)  DJ: NAPPY BWOY、U-KILLA、KOHEI、REO、Shunya
LOCATION:LIME CAY / LIME CAY MUSIC&ART\, 群馬県高崎市鞘町39-1 2F&3F\, TAKASAKI\, 
END:VEVENT
END:VCALENDAR
