BEGIN:VCALENDAR
VERSION:2.0
PRODID:-//AudioTheme 2.3.5
BEGIN:VEVENT
UID:urn:uuid:77375abb-db88-496b-8177-350f7f9b9644
URL:https://ryuto-kasahara.com/shows/proceed%e4%b8%89%e8%bb%92%e8%8c%b6%e5%b1%8bniwars-sangenjaya/
DTSTART;TZID=GMT:20260516T110000
SUMMARY:PROCEED@三軒茶屋Niwar's SANGENJAYA
LOCATION:Niwar's\, 東京都世田谷区三軒茶屋1-32-6 豊栄ビル 1F\, TOKYO\, 
END:VEVENT
END:VCALENDAR
