BEGIN:VCALENDAR
VERSION:2.0
PRODID:-//AudioTheme 2.3.5
BEGIN:VEVENT
UID:urn:uuid:78529804-01fa-4653-9de4-47d14b0d6f48
URL:https://ryuto-kasahara.com/shows/shogen-keyco-summer-tour-2026-in-%e5%8c%97%e6%b5%b7%e9%81%93%e3%80%80%ef%bc%a0%e6%81%b5%e5%ba%adms-stable/
DTSTART;TZID=GMT:20260711T050000
SUMMARY:SHOGEN & Keyco summer tour 2026 in 北海道　＠恵庭M’s Stable
DESCRIPTION:出演：SHOGEN / Keyco / 笠原瑠斗
LOCATION:M’s Stable\, 恵庭市中央 318-1\, ENIWA\, 
END:VEVENT
END:VCALENDAR
