BEGIN:VCALENDAR
VERSION:2.0
PRODID:-//AudioTheme 2.3.5
BEGIN:VEVENT
UID:urn:uuid:87dd800c-15a3-4264-9367-4e8d99f8c492
URL:https://ryuto-kasahara.com/shows/signal-4th-anniversary-special%ef%bc%a0-%e7%a6%8f%e5%b3%b6club-neo/
DTSTART;TZID=GMT:20260502T140000
SUMMARY:SIGNAL 4th Anniversary Special＠ 福島CLUB NEO
DESCRIPTION:Special Guest　　grooveman Spot　笠原瑠斗
LOCATION:CLUB NEO\, 福島県福島市本町5-1 パートナーズビルBF1\, FUKUSHIMA\, 
END:VEVENT
END:VCALENDAR
